BEGIN:VCALENDAR
VERSION:2.0
PRODID:-//Curamus Heilpraktikerschule - ECPv6.15.20//NONSGML v1.0//EN
CALSCALE:GREGORIAN
METHOD:PUBLISH
X-ORIGINAL-URL:https://curamus-schule.de
X-WR-CALDESC:Veranstaltungen für Curamus Heilpraktikerschule
REFRESH-INTERVAL;VALUE=DURATION:PT1H
X-Robots-Tag:noindex
X-PUBLISHED-TTL:PT1H
BEGIN:VTIMEZONE
TZID:UTC
BEGIN:STANDARD
TZOFFSETFROM:+0000
TZOFFSETTO:+0000
TZNAME:UTC
DTSTART:20250101T000000
END:STANDARD
END:VTIMEZONE
BEGIN:VEVENT
DTSTART;TZID=UTC:20260623T180000
DTEND;TZID=UTC:20260623T210000
DTSTAMP:20260424T081640
CREATED:20251010T212037Z
LAST-MODIFIED:20251010T212037Z
UID:3487-1782237600-1782248400@curamus-schule.de
SUMMARY:Infektionskrankheiten 3
DESCRIPTION:
URL:https://curamus-schule.de/seminar/infektionskrankheiten-3/
LOCATION:Live-Online
CATEGORIES:Infektionskrankheiten
END:VEVENT
END:VCALENDAR