BEGIN:VCALENDAR
VERSION:2.0
PRODID:-//Curamus Heilpraktikerschule - ECPv6.15.20//NONSGML v1.0//EN
CALSCALE:GREGORIAN
METHOD:PUBLISH
X-WR-CALNAME:Curamus Heilpraktikerschule
X-ORIGINAL-URL:https://curamus-schule.de
X-WR-CALDESC:Veranstaltungen für Curamus Heilpraktikerschule
REFRESH-INTERVAL;VALUE=DURATION:PT1H
X-Robots-Tag:noindex
X-PUBLISHED-TTL:PT1H
BEGIN:VTIMEZONE
TZID:UTC
BEGIN:STANDARD
TZOFFSETFROM:+0000
TZOFFSETTO:+0000
TZNAME:UTC
DTSTART:20240101T000000
END:STANDARD
END:VTIMEZONE
BEGIN:VEVENT
DTSTART;TZID=UTC:20251208T180000
DTEND;TZID=UTC:20251208T210000
DTSTAMP:20260421T112254
CREATED:20260328T191011Z
LAST-MODIFIED:20260328T191011Z
UID:3691-1765216800-1765227600@curamus-schule.de
SUMMARY:Intensivkurs - Dermatologie
DESCRIPTION:
URL:https://curamus-schule.de/seminar/intensivkurs-dermatologie/
LOCATION:Live-Online
CATEGORIES:Dermatologie,Intensivkurs
END:VEVENT
END:VCALENDAR