BEGIN:VCALENDAR
VERSION:2.0
PRODID:-//Curamus Heilpraktikerschule - ECPv6.15.20//NONSGML v1.0//EN
CALSCALE:GREGORIAN
METHOD:PUBLISH
X-ORIGINAL-URL:https://curamus-schule.de
X-WR-CALDESC:Veranstaltungen für Curamus Heilpraktikerschule
REFRESH-INTERVAL;VALUE=DURATION:PT1H
X-Robots-Tag:noindex
X-PUBLISHED-TTL:PT1H
BEGIN:VTIMEZONE
TZID:UTC
BEGIN:STANDARD
TZOFFSETFROM:+0000
TZOFFSETTO:+0000
TZNAME:UTC
DTSTART:20250101T000000
END:STANDARD
END:VTIMEZONE
BEGIN:VEVENT
DTSTART;TZID=UTC:20261002T090000
DTEND;TZID=UTC:20261002T120000
DTSTAMP:20260421T111917
CREATED:20260328T184736Z
LAST-MODIFIED:20260328T184736Z
UID:3648-1790931600-1790942400@curamus-schule.de
SUMMARY:Gastroenterologie 8
DESCRIPTION:
URL:https://curamus-schule.de/seminar/gastroenterologie-8/
LOCATION:Live-Online
CATEGORIES:Gastroenterologie
END:VEVENT
BEGIN:VEVENT
DTSTART;TZID=UTC:20261006T180000
DTEND;TZID=UTC:20261006T210000
DTSTAMP:20260421T111917
CREATED:20260328T184825Z
LAST-MODIFIED:20260328T184825Z
UID:3650-1791309600-1791320400@curamus-schule.de
SUMMARY:Gastroenterologie 9
DESCRIPTION:
URL:https://curamus-schule.de/seminar/gastroenterologie-9/
LOCATION:Live-Online
CATEGORIES:Gastroenterologie
END:VEVENT
BEGIN:VEVENT
DTSTART;TZID=UTC:20261009T090000
DTEND;TZID=UTC:20261009T120000
DTSTAMP:20260421T111917
CREATED:20260328T184904Z
LAST-MODIFIED:20260328T184904Z
UID:3652-1791536400-1791547200@curamus-schule.de
SUMMARY:Gastroenterologie 10
DESCRIPTION:
URL:https://curamus-schule.de/seminar/gastroenterologie-10/
LOCATION:Live-Online
CATEGORIES:Gastroenterologie
END:VEVENT
BEGIN:VEVENT
DTSTART;TZID=UTC:20261027T180000
DTEND;TZID=UTC:20261027T210000
DTSTAMP:20260421T111917
CREATED:20260328T185003Z
LAST-MODIFIED:20260328T185003Z
UID:3654-1793124000-1793134800@curamus-schule.de
SUMMARY:Gastroenterologie 11
DESCRIPTION:
URL:https://curamus-schule.de/seminar/gastroenterologie-11/
LOCATION:Live-Online
CATEGORIES:Gastroenterologie
END:VEVENT
BEGIN:VEVENT
DTSTART;TZID=UTC:20261030T090000
DTEND;TZID=UTC:20261030T120000
DTSTAMP:20260421T111917
CREATED:20260328T185039Z
LAST-MODIFIED:20260328T185039Z
UID:3656-1793350800-1793361600@curamus-schule.de
SUMMARY:Gastroenterologie 12
DESCRIPTION:
URL:https://curamus-schule.de/seminar/gastroenterologie-12/
LOCATION:Live-Online
CATEGORIES:Gastroenterologie
END:VEVENT
END:VCALENDAR